BEGIN:VCALENDAR
VERSION:2.0
PRODID:-//hacksw/handcal//NONSGML v1.0//EN
CALSCALE:GREGORIAN
BEGIN:VEVENT
LOCATION:Университет Иннополис
DESCRIPTION:Учеников 7—11 классов ждут семинары и практические занятия\, разборы олимпиадных задач\, спортивные игры и экскурсии по кампусу и городу инноваций. Впервые 20 школьников смогут пройти отборочный конкурс и участвовать в сменах бесплатно\, ещё 10 — получат 50% скидку на обучение в школе. Заявки на грантовый конкурс принимаются до 20 мая. Количество мест ограничено.  Двухнедельное обучение пройдёт в Университете Иннополис в две смены: 19 июля — 1 августа и 3—16 августа. Цель школы — подготовить учащихся к всероссийским олимпиадам школьников по техническим направлениям\, «Иннополис Опен»\, соревнованиям из перечня РСОШ и конкурсным мероприятиям по четырём профилям:  Математика  Интенсив включит изучение тем\, связанных с алгеброй\, геометрией и теорией чисел: методов доказательства в олимпиадных задачах\, комбинаторики\, графов\, алгоритмов и других. В конце обучения пройдут математические бои и внутренняя олимпиада\, где школьники применят полученные знания.  Даты: 19 июля — 1 августа  Регистрация открыта до 20 июня  Информационная безопасность  В группе для начинающих школьники научатся распознавать виды современных веб-уязвимостей\, а также изучат основы компьютерной криминалистики. Школьники продолжающей группы познакомятся с форматом киберсоревнований\, где команды атакуют и защищают ИТ-сервисы. Участники продвинутой группы — сконцентрируются на исследовании вредоносных для компьютеров носителей информации.  Даты: 19 июля — 1 августа  Регистрация открыта до 20 июня  Робототехника  В группе для начинающих школьники будут собирать и программировать простейших мобильных роботов\, безопасно работать с робототехническим оборудованием. В программе продвинутой группы — занятия с энкодерами\, регуляторами\, сервоприводами\, составление сложных алгоритмов навигации\, прохождение трасс с одометрией\, симуляция состязаний роботов и изучение компьютерного зрения.  Даты: 19 июля — 1 августа  Регистрация открыта до 20 июня&nbsp\;  Информатика  Программа курса рассчитана на углублённое изучение информатики\, включая структуры данных\, графы\, компараторы\, теорию игр\, линейную алгебру\, геометрические примитивы\, динамическое программирование\, корневую оптимизацию и алгоритмы машинного обучения\, персистентные структуры данных и другие темы.&nbsp\;  Даты: 3—16 августа  Регистрация открыта до 20 июня  Чтобы участвовать в летней школе олимпиадной подготовки «Иннополис Опен»\, необходимо зарегистрироваться на сайте выбранной программы. На профилях «Информационная безопасность» и «Информатика» после регистрации организаторы попросят пройти онлайн-тестирование — это поможет распределить школьников в группы по уровню подготовки. Для победителей и призёров олимпиад\, учащихся партнёрских школ\, детей из многодетных семей и других льготных категорий школьников действует скидка 5 тыс. руб.  Впервые Университет Иннополис выделит 20 мест для бесплатного обучения в летней школе олимпиадной подготовки «Иннополис Опен» и 10 мест для участия с 50% скидкой. Чтобы учиться со скидками\, при регистрации дополнительно необходимо загрузить мотивационное письмо с описанием заслуг\, ожиданиями от программы и прикрепить портфолио — дипломы и сертификаты\, подтверждающие достижения в профильной области. Приём заявок на грантовый конкурс открыт до 20 мая. Получателей грантов летней школы определит экспертная комиссия из преподавателей и сотрудников российского ИТ-вуза. Выиграть грант можно только на одну из смен\, он также не будет суммироваться с другими скидками.&nbsp\;
DTSTART:20260719T000000
DTEND:20260816T000000
SUMMARY:Летняя школа олимпиадной подготовки по робототехнике\, математике\, информатике и инфобезу
URL;VALUE=URI:https://innopolis.university/events/letnyaya-shkola-olimpiadnoy-podgotovki-po-robototekhnike-matematike-informatike-i-infobezu/
DTSTAMP:20260421T170655
UID:69e7847f630a6
END:VEVENT
END:VCALENDAR