BEGIN:VCALENDAR
VERSION:2.0
PRODID:-//hacksw/handcal//NONSGML v1.0//EN
CALSCALE:GREGORIAN
BEGIN:VEVENT
LOCATION:Университет Иннополис
DESCRIPTION:22 апреля на семинаре «Иннополис. Наука» пройдёт открытая лекция доктора физико-математических наук\, заведующего кафедрой оптики и нанофотоники Института физики КФУ Сергея Харинцева. А 23 апреля с лекцией выступит Юрий Караваев — доктор технических наук\, профессор кафедры «Мехатронные системы» Ижевского государственного технического университета имени М.Т. Калашникова. Подключиться к трансляциям может любой желающий.  22 апреля в 14:00 — лекция Сергея Харинцева «Физика\, ИИ и энергетика: вызовы 6.0 технологического уклада»  Язык выступления: русский  Трансляция  В лекции профессор рассмотрит основы квантовой фотоники — нового направления в современной физике\, изучающего взаимодействие света с пространственно-ограниченными\, гетерогенными и разупорядоченными средами. Вместе со слушателями спикер обсудит ключевые вопросы развития искусственного интеллекта в рамках формирования 6.0 технологического уклада.  Сергей Харинцев\, лектор семинара «Иннополис. Наука»: «Одним из фундаментальных ограничений для дальнейшего масштабирования ИИ является глобальный дефицит энергии. Квантовая фотоника пространственно-ограниченных материалов формирует новую нишу в возобновляемой энергетике. В основе технологии лежит модифицированная электронная структура аморфо-кристаллических полупроводников: кремния\, перовскитов\, воды и других. Использование новых физических принципов взаимодействия света и вещества позволит кардинально изменить структуру энергетических ресурсов\, обеспечивающих не только развитие ИИ\, но и жизнедеятельность крупных предприятий\, городов и мегаполисов».  23 апреля в 16:30 — лекция Юрия Караваева «Мобильные роботы\, реализующие нестандартные способы передвижения»  Язык выступления: русский  Трансляция  В докладе профессор расскажет об исследовании динамики механических систем&nbsp\; и разработке прототипов мобильных роботов\, передвигающихся по суше и в жидкости. Юрий Караваев обсудит подходы к описанию движения\, моделированию и управлению движением\, а также проектированию мобильных роботов. Лектор представит результаты создания и исследования сферических роботов с разными приводными механизмами\, безвинтовых водных роботов\, высокоманевренных роботов с роликонесущими колесами\, сочлененных колесных роботов и других\, а также приведёт примеры применения нейросетей для управления движением мобильных роботов.&nbsp\;  «Иннополис. Наука» — серия научных семинаров по математике и ИИ для студентов\, аспирантов и научных сотрудников\, организованная Университетом Иннополис.   Плейлист с лекциями 
DTSTART:20260422T000000
DTEND:20260423T000000
SUMMARY:В Университете Иннополис расскажут\, почему без квантовой фотоники невозможно будущее ИИ и как проектировать движение роботов
URL;VALUE=URI:https://innopolis.university/events/v-universitete-innopolis-rasskazhut-pochemu-bez-kvantovoy-fotoniki-nevozmozhno-budushchee-ii-i-kak-p/
DTSTAMP:20260421T170655
UID:69e7847f68561
END:VEVENT
END:VCALENDAR